BEGIN:VCALENDAR
VERSION:2.0
PRODID:-//Tweed Coast Tigers - ECPv6.15.20//NONSGML v1.0//EN
CALSCALE:GREGORIAN
METHOD:PUBLISH
X-WR-CALNAME:Tweed Coast Tigers
X-ORIGINAL-URL:https://tweedcoasttigers.com
X-WR-CALDESC:Events for Tweed Coast Tigers
REFRESH-INTERVAL;VALUE=DURATION:PT1H
X-Robots-Tag:noindex
X-PUBLISHED-TTL:PT1H
BEGIN:VTIMEZONE
TZID:Australia/Brisbane
BEGIN:STANDARD
TZOFFSETFROM:+1000
TZOFFSETTO:+1000
TZNAME:AEST
DTSTART:20250101T000000
END:STANDARD
END:VTIMEZONE
BEGIN:VEVENT
DTSTART;VALUE=DATE:20260425
DTEND;VALUE=DATE:20260426
DTSTAMP:20260421T223323
CREATED:20260330T072155Z
LAST-MODIFIED:20260330T072319Z
UID:494-1777075200-1777161599@tweedcoasttigers.com
SUMMARY:Anzac Round
DESCRIPTION:
URL:https://tweedcoasttigers.com/event/anzac-round/
ORGANIZER;CN="Tweed Coast Tigers":MAILTO:secretarytweedcoast@gmail.com
END:VEVENT
BEGIN:VEVENT
DTSTART;VALUE=DATE:20260502
DTEND;VALUE=DATE:20260503
DTSTAMP:20260421T223323
CREATED:20260330T072549Z
LAST-MODIFIED:20260330T072549Z
UID:496-1777680000-1777766399@tweedcoasttigers.com
SUMMARY:Sponsors Day
DESCRIPTION:
URL:https://tweedcoasttigers.com/event/sponsors-day/
ORGANIZER;CN="Tweed Coast Tigers":MAILTO:secretarytweedcoast@gmail.com
END:VEVENT
BEGIN:VEVENT
DTSTART;VALUE=DATE:20260516
DTEND;VALUE=DATE:20260517
DTSTAMP:20260421T223323
CREATED:20260330T072701Z
LAST-MODIFIED:20260330T072701Z
UID:497-1778889600-1778975999@tweedcoasttigers.com
SUMMARY:Sir Doug Nicholls Round & Past Players Day
DESCRIPTION:
URL:https://tweedcoasttigers.com/event/sir-doug-nicholls-round-past-players-day/
END:VEVENT
BEGIN:VEVENT
DTSTART;VALUE=DATE:20260530
DTEND;VALUE=DATE:20260531
DTSTAMP:20260421T223323
CREATED:20260330T073155Z
LAST-MODIFIED:20260330T073751Z
UID:500-1780099200-1780185599@tweedcoasttigers.com
SUMMARY:AR Plumbing Tigers Golf Classic
DESCRIPTION:
URL:https://tweedcoasttigers.com/event/ar-plumbing-tigers-golf-classic/
END:VEVENT
BEGIN:VEVENT
DTSTART;VALUE=DATE:20260606
DTEND;VALUE=DATE:20260607
DTSTAMP:20260421T223323
CREATED:20260330T073229Z
LAST-MODIFIED:20260330T073805Z
UID:501-1780704000-1780790399@tweedcoasttigers.com
SUMMARY:Juniors at the Footy
DESCRIPTION:
URL:https://tweedcoasttigers.com/event/juniors-at-the-footy/
END:VEVENT
BEGIN:VEVENT
DTSTART;VALUE=DATE:20260627
DTEND;VALUE=DATE:20260628
DTSTAMP:20260421T223323
CREATED:20260330T073512Z
LAST-MODIFIED:20260330T073824Z
UID:503-1782518400-1782604799@tweedcoasttigers.com
SUMMARY:Big Day Out
DESCRIPTION:
URL:https://tweedcoasttigers.com/event/big-day-out/
END:VEVENT
BEGIN:VEVENT
DTSTART;VALUE=DATE:20260718
DTEND;VALUE=DATE:20260719
DTSTAMP:20260421T223323
CREATED:20260330T073548Z
LAST-MODIFIED:20260330T073658Z
UID:504-1784332800-1784419199@tweedcoasttigers.com
SUMMARY:Pride Round
DESCRIPTION:
URL:https://tweedcoasttigers.com/event/pride-round/
END:VEVENT
BEGIN:VEVENT
DTSTART;VALUE=DATE:20260808
DTEND;VALUE=DATE:20260809
DTSTAMP:20260421T223323
CREATED:20260330T073621Z
LAST-MODIFIED:20260330T073845Z
UID:505-1786147200-1786233599@tweedcoasttigers.com
SUMMARY:Celebrating Volunteers
DESCRIPTION:
URL:https://tweedcoasttigers.com/event/celebrating-volunteers/
END:VEVENT
BEGIN:VEVENT
DTSTART;VALUE=DATE:20260815
DTEND;VALUE=DATE:20260816
DTSTAMP:20260421T223323
CREATED:20260330T073913Z
LAST-MODIFIED:20260407T204939Z
UID:506-1786752000-1786838399@tweedcoasttigers.com
SUMMARY:Major Raffle Draw & Celebrating Women in Footy Day
DESCRIPTION:
URL:https://tweedcoasttigers.com/event/major-raffle-draw-women-in-footy-day/
END:VEVENT
END:VCALENDAR